BEGIN:VCALENDAR
VERSION:2.0
PRODID:-//eventon.com NONSGML v1.0//EN
BEGIN:VEVENT
UID:69e4fed66a33f
DTSTAMP:20260419T181206
DTSTART:20190907T190000Z
DTEND:20190908T010000Z
TZID:Europe/Belgrade
LOCATION:
SUMMARY:Kordunski večer ob žaru in živi glasbi
DESCRIPTION: Vabljeni na Kordunski večer z živo glasbo\,  ki bo v soboto\,  7. 9. 2019\,  v okrepčevalnici &#8220;Leskovački žar Kordun&#8221; na kamniški obvoznici. Ob dobrotah z žara se boste lahko zabavali ob živi glasbi\,  ki jo bosta izvajala Mirel Đurič Đuro in Dragan Kacić. Vljudno vabljeni!\nhttps://www.kamnik.info/koledar_prireditev/kordunski-vecer-ob-zaru-in-zivi-glasbi/
URL:https://www.kamnik.info/koledar_prireditev/kordunski-vecer-ob-zaru-in-zivi-glasbi/
END:VEVENT
END:VCALENDAR