BEGIN:VCALENDAR
VERSION:2.0
PRODID:-//eventon.com NONSGML v1.0//EN
BEGIN:VEVENT
UID:69e56d8872dc0
DTSTAMP:20260420T020424
DTSTART:20191003T150000Z
DTEND:20191003T180000Z
TZID:Europe/Belgrade
LOCATION:Šutna\,  Kamnik 
SUMMARY:Spomini in zgodbe Kamničanov - Srečanje krajanov KS Kamnik - center
DESCRIPTION: Krajevna skupnost Kamnik – center vsakoletno druženje krajanov ob zaključku natečaja Polepšajmo in uredimo krajevno skupnost SPOMINI IN ZGODBE KAMNIČANOV Četrtek\,  3. oktobra 2019\,  ob 17. uri pričetek na ploščadi pred šutensko cerkvijo. Nato sledi sprehod do Glavnega trga\,  Maistrove ulice\,  Grabna vse do Doma kulture Kamnik. Skozi mesto bodo[..]\nhttps://www.kamnik.info/koledar_prireditev/spomini-in-zgodbe-kamnicanov-srecanje-krajanov-ks-kamnik-center/
URL:https://www.kamnik.info/koledar_prireditev/spomini-in-zgodbe-kamnicanov-srecanje-krajanov-ks-kamnik-center/
END:VEVENT
END:VCALENDAR