BEGIN:VCALENDAR
VERSION:2.0
PRODID:-//eventon.com NONSGML v1.0//EN
BEGIN:VEVENT
UID:69e71fefb9bb6
DTSTAMP:20260421T085751
DTSTART:20200620T180000Z
DTEND:20200620T190000Z
TZID:Europe/Belgrade
LOCATION:Korobač Šutna 76\,  1241 Kamnik
SUMMARY:Zvočno gibalni performans: Gašper Selko in Neža Blažič
DESCRIPTION: Duo uporablja lasten glasbeni jezik\,  s katerim spaja elemente instrumentalno/vokalne glasbe z elementi minimalizma in eksperimentalne elektronike. Ustvariti skuša inovativen prehod glasbe med nastopajočim in poslušalci. Vstop prost! Obvezna rezervacija brezplačnih vstopnic na info@domkulture.org &nbsp;\nhttps://www.kamnik.info/koledar_prireditev/zvocno-gibalni-performans-gasper-selko-in-neza-blazic/
URL:https://www.kamnik.info/koledar_prireditev/zvocno-gibalni-performans-gasper-selko-in-neza-blazic/
END:VEVENT
END:VCALENDAR