BEGIN:VCALENDAR
VERSION:2.0
PRODID:-//eventon.com NONSGML v1.0//EN
BEGIN:VEVENT
UID:69ebbc0be62ec
DTSTAMP:20260424T205259
DTSTART:20140506T180000Z
DTEND:20140506T060000Z
TZID:Europe/Belgrade
LOCATION:
SUMMARY:Torki v KKD: Veče stand up komedije: Dušan Tomić\,  Aleš Sečnik in Boštjan Trćek
DESCRIPTION: Torki v KKD: Veče stand up komedije: Dušan Tomić\,  Aleš Sečnik in Boštjan Trćek Stand-up komedija  |  torek\,  06.05.2014\,  ob 20:00  |  Klub Kino dom Večer vrhunskih slovenskih stand up komikov Torki v Klubu Kino dom VEČER STAND UP KOMEDIJE: DUŠAN TOMIĆ\,  ALEŠ SEČNIK IN BOŠTJAN TRČEK Vstop prost\,  prostovoljni[..]\nhttps://www.kamnik.info/koledar_prireditev/torki-v-kkd-vece-stand-up-komedije-dusan-tomic-ales-secnik-in-bostjan-trcek/
URL:https://www.kamnik.info/koledar_prireditev/torki-v-kkd-vece-stand-up-komedije-dusan-tomic-ales-secnik-in-bostjan-trcek/
END:VEVENT
END:VCALENDAR