BEGIN:VCALENDAR
VERSION:2.0
PRODID:-//eventon.com NONSGML v1.0//EN
BEGIN:VEVENT
UID:69e8ed3370214
DTSTAMP:20260422T174555
DTSTART:20210420T060000Z
DTEND:20210420T090000Z
TZID:Europe/Belgrade
LOCATION:Terme Snovik Snovik 7\,  1219 Laze v Tuhinju
SUMMARY:“1000 gibov” v Snoviku
DESCRIPTION: Z redno in zmerno telesno dejavnostjo preventivno in pozitivno vplivamo na svoje zdravje. Začeti dan z gibanjem pomeni\,  da naš vsakdan obogatimo z dobro voljo in vadbo v dobri družbi. Vedno se dobivamo zunaj\,  na prostem\,  na varni razdalji\,  kar je še posebej zaželeno v času epidemije. V pol ure[..]\nhttps://www.kamnik.info/koledar_prireditev/1000-gibov-v-snoviku/
URL:https://www.kamnik.info/koledar_prireditev/1000-gibov-v-snoviku/
END:VEVENT
END:VCALENDAR