BEGIN:VCALENDAR
VERSION:2.0
PRODID:-//eventon.com NONSGML v1.0//EN
BEGIN:VEVENT
UID:69e66c6b29bae
DTSTAMP:20260420T201155
DTSTART:20220107T163000Z
DTEND:20220107T180000Z
TZID:Europe/Belgrade
LOCATION:Športna dvorana Kamnik Šolska ulica 1\,  1241 Kamnik
SUMMARY:Odbojka: Calcit Volley - VKP Bratislava
DESCRIPTION: Leto 2022 bodo kamniški odbojkarji odprli v petek\,  7. januarja\,  ob 17.30\,  ko v ŠD Kamnik prihaja ekipa VPK Bratislava. Slovaki na lestvici zasedajo nehvaležno zadnje mesto in so doslej le enkrat slavili\,  kar gre na roko domači ekipi\,  ki mora do konca rednega dela v svoj žep pospraviti vse[..]\nhttps://www.kamnik.info/koledar_prireditev/156878/
URL:https://www.kamnik.info/koledar_prireditev/156878/
END:VEVENT
END:VCALENDAR