BEGIN:VCALENDAR
VERSION:2.0
PRODID:-//eventon.com NONSGML v1.0//EN
BEGIN:VEVENT
UID:69eabe87cb104
DTSTAMP:20260424T025119
DTSTART:20220121T170000Z
DTEND:20220121T183000Z
TZID:Europe/Belgrade
LOCATION:Dom kulture Kamnik Fužine 10\,  1241 Kamnik
SUMMARY:Predavanje o Jožetu Plečniku
DESCRIPTION: O Jožetu Plečniku bo predaval dr. Noah Charney\,  ki je pridobil doktorat ravno iz poznavanja dragocenih del svetovno znanega slovenskega arhitekta. Razkril vam bo zakaj ga je kot tujca iz daljne Amerike Plečnik tako očaral in zakaj ga je od vseh Plečnikovih del najbolj fascinirala ravno kapela Božjega groba v[..]\nhttps://www.kamnik.info/koledar_prireditev/predavanje-o-jozetu-plecniku/
URL:https://www.kamnik.info/koledar_prireditev/predavanje-o-jozetu-plecniku/
END:VEVENT
END:VCALENDAR