BEGIN:VCALENDAR
VERSION:2.0
PRODID:-//eventon.com NONSGML v1.0//EN
BEGIN:VEVENT
UID:69e547b0660e8
DTSTAMP:20260419T232256
DTSTART:20220617T080000Z
DTEND:20220617T160000Z
TZID:Europe/Belgrade
LOCATION:Samostan Mekinje Polčeva pot 10\,  1241 Kamnik
SUMMARY:Zeliščni vrt samostana Mekinje odpira vrata
DESCRIPTION: Samostanski zeliščni vrt odpira svoja vrata za vse zainteresirane obiskovalce. Njegova snovalka\,  holistična zeliščarica in infopatinja terapevtka Sabina Grošelj\,  vas bo popeljala po njem ob 11. in ob 18. uri\,  ves vmesni čas pa bo na voljo za nasvete\,  vprašanja in pojasnila. Ob 16.00 se boste lahko podučili o zeliščarski[..]\nhttps://www.kamnik.info/koledar_prireditev/zeliscni-vrt-samostana-mekinje-odpira-vrata/
URL:https://www.kamnik.info/koledar_prireditev/zeliscni-vrt-samostana-mekinje-odpira-vrata/
END:VEVENT
END:VCALENDAR