BEGIN:VCALENDAR
VERSION:2.0
PRODID:-//eventon.com NONSGML v1.0//EN
BEGIN:VEVENT
UID:69e735dc2bc85
DTSTAMP:20260421T103124
DTSTART:20150623T180000Z
DTEND:20150622T230000Z
TZID:Europe/Belgrade
LOCATION:Dom kulture Kamnik Fužine 10\,  1241 Kamnik
SUMMARY:KUHAJMO Z JAJCI! - kulinarična komedija in kuhinjski kabaret
DESCRIPTION: Uroš Potočnik KUHAJMO Z JAJCI! Kulinarična komedija Igra: Uroš Potočnik Besedilo in režija: Jaka Andrej Vojevec Vstopnina: 4 eur Rezervacija in prodaja vstopnic: 041 360 399 / 01 839 76 06 / info@domkulture.org / pisarna DKK\,  Fužine 10\,  1240 Kamnik (pon. in pet. 9.00 &#8211; 14.00\,  tor. &#8211; čet. 9.00[..]\nhttps://www.kamnik.info/koledar_prireditev/kuhajmo-z-jajci-kulinaricna-komedija-in-kuhinjski-kabaret/
URL:https://www.kamnik.info/koledar_prireditev/kuhajmo-z-jajci-kulinaricna-komedija-in-kuhinjski-kabaret/
END:VEVENT
END:VCALENDAR