BEGIN:VCALENDAR
VERSION:2.0
PRODID:-//eventon.com NONSGML v1.0//EN
BEGIN:VEVENT
UID:69e99d1a85516
DTSTAMP:20260423T061626
DTSTART:20231119T190000Z
DTEND:20231119T203000Z
TZID:Europe/Belgrade
LOCATION:Mladinski center Kotlovnica Fužine 10\,  1241 Kamnik
SUMMARY:Kokblok kabaret: S(r)anje in vse ostalo
DESCRIPTION: Iščoč prostor pod soncem se naenkrat znajdeš v letih\,  ki te nevede presenetijo in spoznanje te pretrese! Čas je! Ampak za kaj? V duhu in »vonju« sodobne družbe naletiš na lepo zapakirano in odišavljeno sranje. Ker pa nazaj ne gre\,  imaš dve poti – ali ga prestopiš ali pa stopiš[..]\nhttps://www.kamnik.info/koledar_prireditev/kokblok-kabaret-sranje-in-vse-ostalo/
URL:https://www.kamnik.info/koledar_prireditev/kokblok-kabaret-sranje-in-vse-ostalo/
END:VEVENT
END:VCALENDAR