BEGIN:VCALENDAR
VERSION:2.0
PRODID:-//eventon.com NONSGML v1.0//EN
BEGIN:VEVENT
UID:69e4de7b43b34
DTSTAMP:20260419T155403
DTSTART:20221016T160000Z
DTEND:20221016T180000Z
TZID:Europe/Belgrade
LOCATION:Mladinski center Kotlovnica Fužine 10\,  1241 Kamnik
SUMMARY:Delavnica kuhanja čili omake
DESCRIPTION: Čiliji so zreli in potrebno jih je konzervirati. Lahko se lotite vlaganja\,  sušenja ali pa vklopite nekaj kuharske žilice in si naredite pekočo čili omakco\,  ki vam jo bodo zavidali dekle/fant\,  prijatelji ali celo lastni oče! Iz delavnice boste odšli oboroženi s stekleničko ali dvema pekoče čili omake. Vstop prost.[..]\nhttps://www.kamnik.info/koledar_prireditev/delavnica-kuhanja-cili-omake-6/
URL:https://www.kamnik.info/koledar_prireditev/delavnica-kuhanja-cili-omake-6/
END:VEVENT
END:VCALENDAR