BEGIN:VCALENDAR
VERSION:2.0
PRODID:-//eventon.com NONSGML v1.0//EN
BEGIN:VEVENT
UID:69eaf7bb6c1de
DTSTAMP:20260424T065523
DTSTART:20241120T180000Z
DTEND:20241120T190000Z
TZID:Europe/Belgrade
LOCATION:Dom kulture Kamnik Fužine 10\,  1241 Kamnik
SUMMARY:Danijela Zajc: Gozd - predstava sodobnega cirkusa
DESCRIPTION: Predstava Gozd\,  skupaj s prvo predstavo Niti (2019-20)\,  in drugo predstavo Prag (2021)  zaokrožuje osebno-izpovedno trilogijo z naslovom Niti PraGozd. Gozd med drugim preizprašuje\,  kaj je &#8220;motor&#8221; večjih družbenih sprememb in položaj posameznice v patriarhalni družbi. Naslavlja razmerja med individualizacijo in kolektivizacijo družbe\,  dreza v dinamiko med družbenimi in osebnimi[..]\nhttps://www.kamnik.info/koledar_prireditev/danijela-zajc-gozd-predstava-sodobnega-cirkusa/
URL:https://www.kamnik.info/koledar_prireditev/danijela-zajc-gozd-predstava-sodobnega-cirkusa/
END:VEVENT
END:VCALENDAR