BEGIN:VCALENDAR
VERSION:2.0
PRODID:-//eventon.com NONSGML v1.0//EN
BEGIN:VEVENT
UID:69e55b242011c
DTSTAMP:20260420T004556
DTSTART:20260416T150000Z
DTEND:20260416T170000Z
TZID:Europe/Belgrade
LOCATION:Samostan Mekinje Polčeva pot 10\,  1241 Kamnik
SUMMARY:Moja skrivna mavrica 1\,  delavnica
DESCRIPTION: Na tokratni delavnici boste spoznali vrtince\,  znane kot čakre\,  njihove karakteristike\,  delovanje\,  šibkosti in strahove. Zakaj se pojavljajo bolezni in težave? Pravi vzrok niso telesni organi\,  ampak zastoji v pretoku energij na določenih področjih naših energijskih teles. Včasih uspemo z zaznavanjem vzrokov prekiniti motnje v delovanju energij in preprečimo težavam\, [..]\nhttps://www.kamnik.info/koledar_prireditev/moja-skrivna-mavrica-1-delavnica/
URL:https://www.kamnik.info/koledar_prireditev/moja-skrivna-mavrica-1-delavnica/
END:VEVENT
END:VCALENDAR