BEGIN:VCALENDAR
VERSION:2.0
PRODID:-//eventon.com NONSGML v1.0//EN
BEGIN:VEVENT
UID:69e555e57cd6c
DTSTAMP:20260420T002333
DTSTART:20260421T150000Z
DTEND:20260421T180000Z
TZID:Europe/Belgrade
LOCATION:Samostan Mekinje Polčeva pot 10\,  1241 Kamnik
SUMMARY:Od prvih vbodov do lastnih umetnin\,  delavnica osnov ročnega vezenja v samostanu Mekinje
DESCRIPTION: Vabljeni na ustvarjalno delavnico\,  kjer boste spoznali svet ročnega vezenja. Tečaj je namenjen vsem začetnikom (in radovednim ustvarjalcem)\,  ki želijo osvojiti osnovne vbode in jih povezati v lastne\,  unikatne motive. Na delavnici se boste naučili: prednji vbod\,  stični vbod\,  oviti stični vbod\,  verižni vbod\,  vozličke\,  stebelni vbod\,  leno marjetko. Če[..]\nhttps://www.kamnik.info/koledar_prireditev/od-prvih-vbodov-do-lastnih-umetnin-delavnica-osnov-rocnega-vezenja-v-samostanu-mekinje/
URL:https://www.kamnik.info/koledar_prireditev/od-prvih-vbodov-do-lastnih-umetnin-delavnica-osnov-rocnega-vezenja-v-samostanu-mekinje/
END:VEVENT
END:VCALENDAR