BEGIN:VCALENDAR
VERSION:2.0
PRODID:-//eventon.com NONSGML v1.0//EN
BEGIN:VEVENT
UID:69e554169e939
DTSTAMP:20260420T001550
DTSTART:20260423T150000Z
DTEND:20260423T170000Z
TZID:Europe/Belgrade
LOCATION:Samostan Mekinje Polčeva pot 10\,  1241 Kamnik
SUMMARY:Skrivnostne moči zdravilnih zeli\,  delavnica v samostanu Mekinje
DESCRIPTION: Spomladi vse pokuka na plano\,  zato bomo lahko spoznavali zdravilne znanilke pomladi in najpogostejše zdravilne rastline\,  njihovo uporabo ter pripravke. Začeli bomo na vrtu in nadaljevali z bogato projekcijo v dvorani  ter odgovorili na vaša vprašanja. Delavnico bo vodila Sabina Grošelj\,  Vrt zdravilnih rastlin d. o. o. Prispevek za udeležbo:[..]\nhttps://www.kamnik.info/koledar_prireditev/skrivnostne-moci-zdravilnih-zeli-delavnica-v-samostanu-mekinje/
URL:https://www.kamnik.info/koledar_prireditev/skrivnostne-moci-zdravilnih-zeli-delavnica-v-samostanu-mekinje/
END:VEVENT
END:VCALENDAR