BEGIN:VCALENDAR
VERSION:2.0
PRODID:-//eventon.com NONSGML v1.0//EN
BEGIN:VEVENT
UID:69e55acfd0f82
DTSTAMP:20260420T004431
DTSTART:20260424T160000Z
DTEND:20260424T173000Z
TZID:Europe/Belgrade
LOCATION:Samostan Mekinje Polčeva pot 10\,  1241 Kamnik
SUMMARY:Zvočno-vokalna kopel v samostanu Mekinje
DESCRIPTION: V petek\,  24. 4. 2026\,  ob 18. uri  ponovno vabljeni v čarobno mansardno dvorano samostana Mekinje. Poleg standardne zvočne kopeli s holističnimi inštrumenti – kristalnimi in tibetanskimi posodami\,  bansuri in dvojno flavto\,  raznimi vetrnimi zvončki\,  dežno palico\,  jezičnim\,  oceanskim in Remo bobnom –  vas Sandra razvaja z intuitivnim petjem\,  ki vas[..]\nhttps://www.kamnik.info/koledar_prireditev/zvocno-vokalna-kopel-v-samostanu-mekinje-5/
URL:https://www.kamnik.info/koledar_prireditev/zvocno-vokalna-kopel-v-samostanu-mekinje-5/
END:VEVENT
END:VCALENDAR