BEGIN:VCALENDAR
VERSION:2.0
PRODID:-//eventon.com NONSGML v1.0//EN
BEGIN:VEVENT
UID:69e4d16bb2c4c
DTSTAMP:20260419T145819
DTSTART:20260424T160000Z
DTEND:20260424T173000Z
TZID:Europe/Belgrade
LOCATION:Dom krajanov Križ Križ 3/c\,  1218 Komenda
SUMMARY:Redni (volilni) zbor članov Avto-moto društva Kamnik
DESCRIPTION: Na podlagi 21. člena Statuta Avto-moto društva Kamnik sklicujem Redni letni (volilni) zbor članov AMDK\,  ki bo v petek 24.04.2026 ob 18:00 uri v objektu DOM KRAJANOV Križ št. 3/c občina Komenda. PREDLOG DNEVNEGA REDA: Izvolitev organov zbora članov (delovnega predsednika\,  verifikacijske komisije\,  zapisnikarja\,  dveh overiteljev zapisnika) Poročilo organov društva[..]\nhttps://www.kamnik.info/koledar_prireditev/redni-volilni-zbor-clanov-avto-moto-drustva-kamnik/
URL:https://www.kamnik.info/koledar_prireditev/redni-volilni-zbor-clanov-avto-moto-drustva-kamnik/
END:VEVENT
END:VCALENDAR