BEGIN:VCALENDAR
VERSION:2.0
PRODID:-//eventon.com NONSGML v1.0//EN
BEGIN:VEVENT
UID:69e55af0613d6
DTSTAMP:20260420T004504
DTSTART:20260424T140000Z
DTEND:20260426T130000Z
TZID:Europe/Belgrade
LOCATION:Samostan Mekinje Polčeva pot 10\,  1241 Kamnik
SUMMARY:Dorotejina zeliščna zgodba\,  zeliščni vikend v samostanu Mekinje
DESCRIPTION: Pomlad vabi k prebujenju tudi v samostanu Mekinje\,  kjer bo konec aprila zadišalo po zeliščih\,  ustvarjalnosti in notranjem miru. V objemu zgodovinskih zidov in spokojne narave boste tri dni raziskovali bogastvo tradicionalnih znanj in sodobnih pristopov k življenju z naravo. Zeliščni vikend združuje izkušnje\,  vonjave\,  okuse in ustvarjalnost. Spoznali boste[..]\nhttps://www.kamnik.info/koledar_prireditev/dorotejina-zeliscna-zgodba-zeliscni-vikend-v-samostanu-mekinje/
URL:https://www.kamnik.info/koledar_prireditev/dorotejina-zeliscna-zgodba-zeliscni-vikend-v-samostanu-mekinje/
END:VEVENT
END:VCALENDAR