BEGIN:VCALENDAR
VERSION:2.0
PRODID:-//eventon.com NONSGML v1.0//EN
BEGIN:VEVENT
UID:69e4c60d0d687
DTSTAMP:20260419T140949
DTSTART:20151024T060000Z
DTEND:20151024T110000Z
TZID:Europe/Belgrade
LOCATION:Glavni trg Glavni trg 2\,  1241 Kamnik
SUMMARY:Tržnica Okusi Kamnika - Podeželje in Eko
DESCRIPTION: V soboto se bo na Glavnem trgu od 8. do 13. ure znova odvijala tržnica Okusi Kamnika – Podeželje in Eko. Sodelovali bodo številni lokalni ponudniki ekoloških in doma predelanih živil\,  ki bodo ponujali vse od sveže zelenjave do medu\,  domačih sokov in marmelad\,  likerjev\,  namazov\,  suhih mesnin\,  jajc\,  različnih[..]\nhttps://www.kamnik.info/koledar_prireditev/trznica-okusi-kamnika-podezelje-in-eko-4/
URL:https://www.kamnik.info/koledar_prireditev/trznica-okusi-kamnika-podezelje-in-eko-4/
END:VEVENT
END:VCALENDAR