BEGIN:VCALENDAR
VERSION:2.0
PRODID:-//eventon.com NONSGML v1.0//EN
BEGIN:VEVENT
UID:69e552a3be3e1
DTSTAMP:20260420T000939
DTSTART:20160130T090000Z
DTEND:20160129T230000Z
TZID:Europe/Belgrade
LOCATION:Kavarna Rotovž Glavni trg 25\,  1241 Kamnik
SUMMARY:Pustna delavnica v Caffe Rotovž
DESCRIPTION: &nbsp; Če še nimate ideje za vašo pustno masko\,  jo lahko izdelate že v soboto\,  30. januarja 2016\,  ob 10. uri v Caffe Rotovž na otroški pustni delavnici\,  ki jo bo vodila Helena Sterle.\nhttps://www.kamnik.info/koledar_prireditev/pustna-delavnica-v-caffe-rotovz/
URL:https://www.kamnik.info/koledar_prireditev/pustna-delavnica-v-caffe-rotovz/
END:VEVENT
END:VCALENDAR