BEGIN:VCALENDAR
VERSION:2.0
PRODID:-//eventon.com NONSGML v1.0//EN
BEGIN:VEVENT
UID:69e59e641eb6d
DTSTAMP:20260420T053252
DTSTART:20160216T160000Z
DTEND:20160215T230000Z
TZID:Europe/Belgrade
LOCATION:KIKštarter Fužine 9\,  1241 Kamnik
SUMMARY:Startup šola podjetništva (KIKštarter)
DESCRIPTION: &nbsp; Startup šola podjetništva je namenja mladim &#8211; dijakom\,  študentom in ostali mladini s podjetniško žilico. Šola podjetništva je brezplačna in namenjena vsem\,  ki imate idejo\,  pa na veste\,  če je izvedljiva? Imate produkt ali veščino in vas zanima\,  kako jo prodati? Startup šola podjetništva je namenja mladim &#8211;  dijakom\, [..]\nhttps://www.kamnik.info/koledar_prireditev/startup-sola-podjetnistva-kikstarter/
URL:https://www.kamnik.info/koledar_prireditev/startup-sola-podjetnistva-kikstarter/
END:VEVENT
END:VCALENDAR