BEGIN:VCALENDAR
VERSION:2.0
PRODID:-//eventon.com NONSGML v1.0//EN
BEGIN:VEVENT
UID:69e4cea320aeb
DTSTAMP:20260419T144627
DTSTART:20160406T143000Z
DTEND:20160406T160000Z
TZID:Europe/Belgrade
LOCATION:Knjižnica Kamnik Ljubljanska ulica 1\,  Kamnik
SUMMARY:Izmenjava sadik in semen
DESCRIPTION: &nbsp; V sredo\,  6. aprila 2016\,  ste vabljeni na izmenjavo domačih sadik in semen\,  ki bo\,  med 16:30 in 18.00 uro\,  potekala v dvorani kamniške knjižnice. O izmenjavi ne pozabite obvestiti tudi svojih prijateljev in znancev. Vljudno vabljeni!\nhttps://www.kamnik.info/koledar_prireditev/izmenjava-sadik-in-semen/
URL:https://www.kamnik.info/koledar_prireditev/izmenjava-sadik-in-semen/
END:VEVENT
END:VCALENDAR