BEGIN:VCALENDAR
VERSION:2.0
PRODID:-//eventon.com NONSGML v1.0//EN
BEGIN:VEVENT
UID:69e4d594bc483
DTSTAMP:20260419T151604
DTSTART:20160519T163000Z
DTEND:20160518T220000Z
TZID:Europe/Belgrade
LOCATION:Glasbena šola Kamnik Kahjuhova 11\,  1241 Kamnik
SUMMARY:Koncert Mladinskega pevskega zbora Glasbene šole Kamnik
DESCRIPTION: &nbsp; Vabljeni na koncert Mladinskega pevskega zbora Glasbene šole Kamnik\,  ki se bo odvijal v četrtek\,  19. maja 2016\,  ob 18.30 v Vremšakovi dvorani.\nhttps://www.kamnik.info/koledar_prireditev/koncert-mladinskega-pevskega-zbora-glasbene-sole-kamnik/
URL:https://www.kamnik.info/koledar_prireditev/koncert-mladinskega-pevskega-zbora-glasbene-sole-kamnik/
END:VEVENT
END:VCALENDAR