BEGIN:VCALENDAR
VERSION:2.0
PRODID:-//eventon.com NONSGML v1.0//EN
BEGIN:VEVENT
UID:69e735e22286c
DTSTAMP:20260421T103130
DTSTART:20141227T190000Z
DTEND:20141227T000000Z
TZID:Europe/Belgrade
LOCATION:Glavni trg Glavni trg 2\,  1241 Kamnik
SUMMARY:Koncert skupine Gadi in skupine Špica
DESCRIPTION: &nbsp; 27.12.2014 GLAVNI TRG KAMNIK Kamnik. Decembra. Čas veselja. SKUPINA GADI IN SKUPINA ŠPICA 20.00\nhttps://www.kamnik.info/koledar_prireditev/koncert-skupine-gadi-skupine-spica/
URL:https://www.kamnik.info/koledar_prireditev/koncert-skupine-gadi-skupine-spica/
END:VEVENT
END:VCALENDAR