BEGIN:VCALENDAR
VERSION:2.0
PRODID:-//eventon.com NONSGML v1.0//EN
BEGIN:VEVENT
UID:69e7a436e8884
DTSTAMP:20260421T182214
DTSTART:20161015T150000Z
DTEND:20161014T220000Z
TZID:Europe/Belgrade
LOCATION:Točilnica Mali grad Kamniška cesta 19\,  1241 Kamnik
SUMMARY:Odprtje Točilnice Mali Grad
DESCRIPTION: &nbsp; Končno je napočil čas\,  da vse naše drage prijatelje in pivoljubce povabimo na slavnostno otvoritev (z žurom) naše Točilnice! Točili bomo naše: PALE ALE SESSION IPA INDIA PALE ALE INDIA BLACK ALE GERMAN PILS AMERICAN CRAFT LAGER Za lačna usta bo poskrbel Kuharai\,  za žur boste poskrbeli vi. Plesalo[..]\nhttps://www.kamnik.info/koledar_prireditev/odprtje-tocilnice-mali-grad/
URL:https://www.kamnik.info/koledar_prireditev/odprtje-tocilnice-mali-grad/
END:VEVENT
END:VCALENDAR