BEGIN:VCALENDAR
VERSION:2.0
PRODID:-//eventon.com NONSGML v1.0//EN
BEGIN:VEVENT
UID:69eb054f4360e
DTSTAMP:20260424T075319
DTSTART:20150113T180000Z
DTEND:20150113T000000Z
TZID:Europe/Belgrade
LOCATION:Knjižnica Kamnik Ljubljanska ulica 1\,  Kamnik
SUMMARY:Ultrablues: Kako so se trije kompanjoni lotili ultramaratona.
DESCRIPTION: Spoštovani\,  v torek\,  13. januarja 2015\,  ob 19. uri vabimo vas in vaše prijatelje\,  tekače in bodoče tekače na pogovor o knjigi Ultrablues: Kako so se trije kompanjoni lotili ultramaratona. Knjiga govori o tem\,  kako so se trije pisci in tekači Samo Rugelj\,  Boštjan Videmšek in Žiga X Gombač lotili[..]\nhttps://www.kamnik.info/koledar_prireditev/ultrablues-kako-se-trije-kompanjoni-lotili-ultramaratona/
URL:https://www.kamnik.info/koledar_prireditev/ultrablues-kako-se-trije-kompanjoni-lotili-ultramaratona/
END:VEVENT
END:VCALENDAR