BEGIN:VCALENDAR
VERSION:2.0
PRODID:-//eventon.com NONSGML v1.0//EN
BEGIN:VEVENT
UID:69e4c266b5be4
DTSTAMP:20260419T135414
DTSTART:20170610T170000Z
DTEND:20170609T220000Z
TZID:Europe/Belgrade
LOCATION:Srednja vas Srednja vas pri Kamniku 10\,  1241 Kamnik
SUMMARY:Gasilska veselica v Srednji vasi
DESCRIPTION: &nbsp; Gasilke in gasilci Prostovoljnega gasilskega društva Srednja vas vas v soboto\,  10. junija 2017\,  vljudno vabijo na gasilsko veselico s skupino Špica\,  na kateri bo poskrbljeno za veselo zabavo in bogat srečelov. Vljudno vabljeni! &nbsp;\nhttps://www.kamnik.info/koledar_prireditev/gasilska-veselica-v-srednji-vasi/
URL:https://www.kamnik.info/koledar_prireditev/gasilska-veselica-v-srednji-vasi/
END:VEVENT
END:VCALENDAR