BEGIN:VCALENDAR
VERSION:2.0
PRODID:-//eventon.com NONSGML v1.0//EN
BEGIN:VEVENT
UID:69e7d6af50db4
DTSTAMP:20260421T215735
DTSTART:20170916T180000Z
DTEND:20170916T200000Z
TZID:Europe/Belgrade
LOCATION:Krajevni dom Šmarca Trg padlih borcev 2\,  1241 Kamnik
SUMMARY:Pomagajmo Tilnu - dobrodelni koncert
DESCRIPTION: Prišel je čas\,  ko zopet trkam na vaša srca in vašo dobroto. 16.septembra 2017 ob 20.00 uri\,  bomo v DOMU KRAJANOV V ŠMARCI pri Kamniku\,  zopet dobrodelni\,  saj bomo pomagali Tilnu in njegovi družini. Dodali bomo kamenček v mozaik in jim tako pomagali\,  da bodo čim prej prišli do električnega[..]\nhttps://www.kamnik.info/koledar_prireditev/pomagajmo-tilnu-dobrodelni-koncert/
URL:https://www.kamnik.info/koledar_prireditev/pomagajmo-tilnu-dobrodelni-koncert/
END:VEVENT
END:VCALENDAR