BEGIN:VCALENDAR
VERSION:2.0
PRODID:-//eventon.com NONSGML v1.0//EN
BEGIN:VEVENT
UID:69e537cfd4db6
DTSTAMP:20260419T221511
DTSTART:20141014T160000Z
DTEND:20141013T230000Z
TZID:Europe/Belgrade
LOCATION:Kotlovnica Fužine 10\,  1241 Kamnik
SUMMARY:Delavnica osnov lučne in zvočne tehnike
DESCRIPTION: Izku&scaron;ena tehnična posadka Kamfesta\,  Kotlovnice in DKK vas popelje v osnove gledali&scaron;ke in koncertne tehnike Leto&scaron;nja delavnica nadaljuje tradicijo osnovnega tehni&scaron;kega izobraževanja in je namenjena začetnikom\,  pa tudi tistim\,  ki mislite\,  da vam je vse jasno\,  a vas čudi\,  da vas nihče nikoli ne pokliče v tehni&scaron;ko ekipo. Skratka\,  če[..]\nhttps://www.kamnik.info/koledar_prireditev/delavnica-osnov-lucne-zvocne-tehnike/
URL:https://www.kamnik.info/koledar_prireditev/delavnica-osnov-lucne-zvocne-tehnike/
END:VEVENT
END:VCALENDAR