BEGIN:VCALENDAR
VERSION:2.0
PRODID:-//eventon.com NONSGML v1.0//EN
BEGIN:VEVENT
UID:69e634d34776a
DTSTAMP:20260420T161443
DTSTART:20150305T180000Z
DTEND:20150305T000000Z
TZID:Europe/Belgrade
LOCATION:Klub Kino dom Fužine 10\,  1240 Kamnik
SUMMARY:POGOVORNI VEČER:  REFLEKSIJE NA ČAS\,  KI GA ŽIVIMO: SILVO TERŠEK in dr. ANDRAŽ TERŠEK
DESCRIPTION: VABILO NA POGOVORNI VEČER REFLEKSIJE NA ČAS\,  KI GA ŽIVIMO Dogodek bosta iz oči v oči\,  v dialoškem razmišljanju in pogovarjanju\,  oblikovala oče in sin SILVO TERŠEK in dr. ANDRAŽ TERŠEK.   Silvo Teršek\,  novinar in moderator\,  umetnik in pisec\,  nemirni iskalec življenjskih resnic in lepote\,  mojster besede\,  avtor številnih[..]\nhttps://www.kamnik.info/koledar_prireditev/pogovorni-vecer-refleksije-na-cas-ki-ga-zivimo-silvo-tersek-in-dr-andraz-tersek/
URL:https://www.kamnik.info/koledar_prireditev/pogovorni-vecer-refleksije-na-cas-ki-ga-zivimo-silvo-tersek-in-dr-andraz-tersek/
END:VEVENT
END:VCALENDAR